BEGIN:VCALENDAR
VERSION:2.0
PRODID:-//Essex County County Fire Chiefs - ECPv6.15.20//NONSGML v1.0//EN
CALSCALE:GREGORIAN
METHOD:PUBLISH
X-WR-CALNAME:Essex County County Fire Chiefs
X-ORIGINAL-URL:https://essexcountyfire.org
X-WR-CALDESC:Events for Essex County County Fire Chiefs
REFRESH-INTERVAL;VALUE=DURATION:PT1H
X-Robots-Tag:noindex
X-PUBLISHED-TTL:PT1H
BEGIN:VTIMEZONE
TZID:America/New_York
BEGIN:DAYLIGHT
TZOFFSETFROM:-0500
TZOFFSETTO:-0400
TZNAME:EDT
DTSTART:20260308T070000
END:DAYLIGHT
BEGIN:STANDARD
TZOFFSETFROM:-0400
TZOFFSETTO:-0500
TZNAME:EST
DTSTART:20261101T060000
END:STANDARD
BEGIN:DAYLIGHT
TZOFFSETFROM:-0500
TZOFFSETTO:-0400
TZNAME:EDT
DTSTART:20270314T070000
END:DAYLIGHT
BEGIN:STANDARD
TZOFFSETFROM:-0400
TZOFFSETTO:-0500
TZNAME:EST
DTSTART:20271107T060000
END:STANDARD
BEGIN:DAYLIGHT
TZOFFSETFROM:-0500
TZOFFSETTO:-0400
TZNAME:EDT
DTSTART:20280312T070000
END:DAYLIGHT
BEGIN:STANDARD
TZOFFSETFROM:-0400
TZOFFSETTO:-0500
TZNAME:EST
DTSTART:20281105T060000
END:STANDARD
BEGIN:DAYLIGHT
TZOFFSETFROM:-0500
TZOFFSETTO:-0400
TZNAME:EDT
DTSTART:20290311T070000
END:DAYLIGHT
BEGIN:STANDARD
TZOFFSETFROM:-0400
TZOFFSETTO:-0500
TZNAME:EST
DTSTART:20291104T060000
END:STANDARD
END:VTIMEZONE
BEGIN:VEVENT
DTSTART;TZID=America/New_York:20270908T083000
DTEND;TZID=America/New_York:20270908T100000
DTSTAMP:20260420T045859
CREATED:20250616T185631Z
LAST-MODIFIED:20250616T185632Z
UID:10000379-1820392200-1820397600@essexcountyfire.org
SUMMARY:General Membership Meeting
DESCRIPTION:General Membership Meeting: 0830 hours second Wednesday of every Month at Teresa’s In Middleton\, MA
URL:https://essexcountyfire.org/event/general-membership-meeting-2/2027-09-08/
LOCATION:Teresa’s\, 149 S Main St\, Middleton\, MA\, 01949\, United States
END:VEVENT
BEGIN:VEVENT
DTSTART;TZID=America/New_York:20270914T130000
DTEND;TZID=America/New_York:20270914T150000
DTSTAMP:20260420T045859
CREATED:20260324T184054Z
LAST-MODIFIED:20260324T184143Z
UID:10000492-1820926800-1820934000@essexcountyfire.org
SUMMARY:Training Division
DESCRIPTION:Training Division: Second Tuesday of the month at 1000 hours at Rowley HQ
URL:https://essexcountyfire.org/event/training-division-2/2027-09-14/
LOCATION:Rowley Fire\, 473 Haverhill St\, Rowley\, MA\, 01969\, United States
END:VEVENT
BEGIN:VEVENT
DTSTART;TZID=America/New_York:20270917T090000
DTEND;TZID=America/New_York:20270917T110000
DTSTAMP:20260420T045859
CREATED:20251121T164849Z
LAST-MODIFIED:20251121T164849Z
UID:10000438-1821171600-1821178800@essexcountyfire.org
SUMMARY:COMMSDIV - Monthly Meeting
DESCRIPTION:Meetings are the 3rd Friday of Every Month (0900-1100) – No meetings July / August \n 
URL:https://essexcountyfire.org/event/commsdiv-monthly-meeting/2027-09-17/
LOCATION:Rowley Fire\, 473 Haverhill St\, Rowley\, MA\, 01969\, United States
CATEGORIES:COMMSDIV
END:VEVENT
BEGIN:VEVENT
DTSTART;TZID=America/New_York:20270928T100000
DTEND;TZID=America/New_York:20270928T120000
DTSTAMP:20260420T045859
CREATED:20250416T151453Z
LAST-MODIFIED:20260324T184719Z
UID:10000205-1822125600-1822132800@essexcountyfire.org
SUMMARY:Fire Prevention Division Monthly Meeting
DESCRIPTION:Fire Prevention Division: Last Tuesday of the month at 1000 hours at Rowley HQ
URL:https://essexcountyfire.org/event/fire-prevention-division/2027-09-28/
LOCATION:Rowley Fire\, 473 Haverhill St\, Rowley\, MA\, 01969\, United States
END:VEVENT
BEGIN:VEVENT
DTSTART;TZID=America/New_York:20271005T100000
DTEND;TZID=America/New_York:20271005T120000
DTSTAMP:20260420T045859
CREATED:20250523T161108Z
LAST-MODIFIED:20250523T161259Z
UID:10000324-1822730400-1822737600@essexcountyfire.org
SUMMARY:EMS Division - Monthly Meeting
DESCRIPTION:Meetings are the 1st Tuesday of Every Month (1000-1200) – No meetings July / August \nMeetings are hybrid (in person & virtual)
URL:https://essexcountyfire.org/event/ems-division-monthly-meeting/2027-10-05/
LOCATION:MA
CATEGORIES:EMS Division
END:VEVENT
BEGIN:VEVENT
DTSTART;TZID=America/New_York:20271006T100000
DTEND;TZID=America/New_York:20271006T120000
DTSTAMP:20260420T045859
CREATED:20250416T150136Z
LAST-MODIFIED:20250416T151737Z
UID:10000034-1822816800-1822824000@essexcountyfire.org
SUMMARY:Board of Directors Meeting
DESCRIPTION:Board of Directors Meeting: 1000 hours first Wednesday of every month at Topsfield HQ
URL:https://essexcountyfire.org/event/board-of-directors-meeting/2027-10-06/
LOCATION:Topsfield Fire\, 27 High St\, Topsfield\, 01983\, United States
END:VEVENT
BEGIN:VEVENT
DTSTART;TZID=America/New_York:20271012T130000
DTEND;TZID=America/New_York:20271012T150000
DTSTAMP:20260420T045859
CREATED:20260324T184054Z
LAST-MODIFIED:20260324T184143Z
UID:10000493-1823346000-1823353200@essexcountyfire.org
SUMMARY:Training Division
DESCRIPTION:Training Division: Second Tuesday of the month at 1000 hours at Rowley HQ
URL:https://essexcountyfire.org/event/training-division-2/2027-10-12/
LOCATION:Rowley Fire\, 473 Haverhill St\, Rowley\, MA\, 01969\, United States
END:VEVENT
BEGIN:VEVENT
DTSTART;TZID=America/New_York:20271013T083000
DTEND;TZID=America/New_York:20271013T100000
DTSTAMP:20260420T045859
CREATED:20250616T185631Z
LAST-MODIFIED:20250616T185632Z
UID:10000380-1823416200-1823421600@essexcountyfire.org
SUMMARY:General Membership Meeting
DESCRIPTION:General Membership Meeting: 0830 hours second Wednesday of every Month at Teresa’s In Middleton\, MA
URL:https://essexcountyfire.org/event/general-membership-meeting-2/2027-10-13/
LOCATION:Teresa’s\, 149 S Main St\, Middleton\, MA\, 01949\, United States
END:VEVENT
BEGIN:VEVENT
DTSTART;TZID=America/New_York:20271015T090000
DTEND;TZID=America/New_York:20271015T110000
DTSTAMP:20260420T045859
CREATED:20251121T164849Z
LAST-MODIFIED:20251121T164849Z
UID:10000439-1823590800-1823598000@essexcountyfire.org
SUMMARY:COMMSDIV - Monthly Meeting
DESCRIPTION:Meetings are the 3rd Friday of Every Month (0900-1100) – No meetings July / August \n 
URL:https://essexcountyfire.org/event/commsdiv-monthly-meeting/2027-10-15/
LOCATION:Rowley Fire\, 473 Haverhill St\, Rowley\, MA\, 01969\, United States
CATEGORIES:COMMSDIV
END:VEVENT
BEGIN:VEVENT
DTSTART;TZID=America/New_York:20271026T100000
DTEND;TZID=America/New_York:20271026T120000
DTSTAMP:20260420T045859
CREATED:20250416T151453Z
LAST-MODIFIED:20260324T184719Z
UID:10000206-1824544800-1824552000@essexcountyfire.org
SUMMARY:Fire Prevention Division Monthly Meeting
DESCRIPTION:Fire Prevention Division: Last Tuesday of the month at 1000 hours at Rowley HQ
URL:https://essexcountyfire.org/event/fire-prevention-division/2027-10-26/
LOCATION:Rowley Fire\, 473 Haverhill St\, Rowley\, MA\, 01969\, United States
END:VEVENT
BEGIN:VEVENT
DTSTART;TZID=America/New_York:20271102T100000
DTEND;TZID=America/New_York:20271102T120000
DTSTAMP:20260420T045859
CREATED:20250523T161108Z
LAST-MODIFIED:20250523T161259Z
UID:10000325-1825149600-1825156800@essexcountyfire.org
SUMMARY:EMS Division - Monthly Meeting
DESCRIPTION:Meetings are the 1st Tuesday of Every Month (1000-1200) – No meetings July / August \nMeetings are hybrid (in person & virtual)
URL:https://essexcountyfire.org/event/ems-division-monthly-meeting/2027-11-02/
LOCATION:MA
CATEGORIES:EMS Division
END:VEVENT
BEGIN:VEVENT
DTSTART;TZID=America/New_York:20271103T100000
DTEND;TZID=America/New_York:20271103T120000
DTSTAMP:20260420T045900
CREATED:20250416T150136Z
LAST-MODIFIED:20250416T151737Z
UID:10000035-1825236000-1825243200@essexcountyfire.org
SUMMARY:Board of Directors Meeting
DESCRIPTION:Board of Directors Meeting: 1000 hours first Wednesday of every month at Topsfield HQ
URL:https://essexcountyfire.org/event/board-of-directors-meeting/2027-11-03/
LOCATION:Topsfield Fire\, 27 High St\, Topsfield\, 01983\, United States
END:VEVENT
BEGIN:VEVENT
DTSTART;TZID=America/New_York:20271109T130000
DTEND;TZID=America/New_York:20271109T150000
DTSTAMP:20260420T045900
CREATED:20260324T184054Z
LAST-MODIFIED:20260324T184143Z
UID:10000494-1825765200-1825772400@essexcountyfire.org
SUMMARY:Training Division
DESCRIPTION:Training Division: Second Tuesday of the month at 1000 hours at Rowley HQ
URL:https://essexcountyfire.org/event/training-division-2/2027-11-09/
LOCATION:Rowley Fire\, 473 Haverhill St\, Rowley\, MA\, 01969\, United States
END:VEVENT
BEGIN:VEVENT
DTSTART;TZID=America/New_York:20271110T083000
DTEND;TZID=America/New_York:20271110T100000
DTSTAMP:20260420T045900
CREATED:20250616T185631Z
LAST-MODIFIED:20250616T185632Z
UID:10000381-1825835400-1825840800@essexcountyfire.org
SUMMARY:General Membership Meeting
DESCRIPTION:General Membership Meeting: 0830 hours second Wednesday of every Month at Teresa’s In Middleton\, MA
URL:https://essexcountyfire.org/event/general-membership-meeting-2/2027-11-10/
LOCATION:Teresa’s\, 149 S Main St\, Middleton\, MA\, 01949\, United States
END:VEVENT
BEGIN:VEVENT
DTSTART;TZID=America/New_York:20271119T090000
DTEND;TZID=America/New_York:20271119T110000
DTSTAMP:20260420T045900
CREATED:20251121T164849Z
LAST-MODIFIED:20251121T164849Z
UID:10000440-1826614800-1826622000@essexcountyfire.org
SUMMARY:COMMSDIV - Monthly Meeting
DESCRIPTION:Meetings are the 3rd Friday of Every Month (0900-1100) – No meetings July / August \n 
URL:https://essexcountyfire.org/event/commsdiv-monthly-meeting/2027-11-19/
LOCATION:Rowley Fire\, 473 Haverhill St\, Rowley\, MA\, 01969\, United States
CATEGORIES:COMMSDIV
END:VEVENT
BEGIN:VEVENT
DTSTART;TZID=America/New_York:20271123T100000
DTEND;TZID=America/New_York:20271123T120000
DTSTAMP:20260420T045900
CREATED:20250416T151453Z
LAST-MODIFIED:20260324T184719Z
UID:10000207-1826964000-1826971200@essexcountyfire.org
SUMMARY:Fire Prevention Division Monthly Meeting
DESCRIPTION:Fire Prevention Division: Last Tuesday of the month at 1000 hours at Rowley HQ
URL:https://essexcountyfire.org/event/fire-prevention-division/2027-11-23/
LOCATION:Rowley Fire\, 473 Haverhill St\, Rowley\, MA\, 01969\, United States
END:VEVENT
BEGIN:VEVENT
DTSTART;TZID=America/New_York:20271201T100000
DTEND;TZID=America/New_York:20271201T120000
DTSTAMP:20260420T045900
CREATED:20250416T150136Z
LAST-MODIFIED:20250416T151737Z
UID:10000036-1827655200-1827662400@essexcountyfire.org
SUMMARY:Board of Directors Meeting
DESCRIPTION:Board of Directors Meeting: 1000 hours first Wednesday of every month at Topsfield HQ
URL:https://essexcountyfire.org/event/board-of-directors-meeting/2027-12-01/
LOCATION:Topsfield Fire\, 27 High St\, Topsfield\, 01983\, United States
END:VEVENT
BEGIN:VEVENT
DTSTART;TZID=America/New_York:20271207T100000
DTEND;TZID=America/New_York:20271207T120000
DTSTAMP:20260420T045900
CREATED:20250523T161108Z
LAST-MODIFIED:20250523T161259Z
UID:10000326-1828173600-1828180800@essexcountyfire.org
SUMMARY:EMS Division - Monthly Meeting
DESCRIPTION:Meetings are the 1st Tuesday of Every Month (1000-1200) – No meetings July / August \nMeetings are hybrid (in person & virtual)
URL:https://essexcountyfire.org/event/ems-division-monthly-meeting/2027-12-07/
LOCATION:MA
CATEGORIES:EMS Division
END:VEVENT
BEGIN:VEVENT
DTSTART;TZID=America/New_York:20271208T083000
DTEND;TZID=America/New_York:20271208T100000
DTSTAMP:20260420T045900
CREATED:20250616T185631Z
LAST-MODIFIED:20250616T185632Z
UID:10000382-1828254600-1828260000@essexcountyfire.org
SUMMARY:General Membership Meeting
DESCRIPTION:General Membership Meeting: 0830 hours second Wednesday of every Month at Teresa’s In Middleton\, MA
URL:https://essexcountyfire.org/event/general-membership-meeting-2/2027-12-08/
LOCATION:Teresa’s\, 149 S Main St\, Middleton\, MA\, 01949\, United States
END:VEVENT
BEGIN:VEVENT
DTSTART;TZID=America/New_York:20271214T130000
DTEND;TZID=America/New_York:20271214T150000
DTSTAMP:20260420T045900
CREATED:20260324T184054Z
LAST-MODIFIED:20260324T184143Z
UID:10000495-1828789200-1828796400@essexcountyfire.org
SUMMARY:Training Division
DESCRIPTION:Training Division: Second Tuesday of the month at 1000 hours at Rowley HQ
URL:https://essexcountyfire.org/event/training-division-2/2027-12-14/
LOCATION:Rowley Fire\, 473 Haverhill St\, Rowley\, MA\, 01969\, United States
END:VEVENT
BEGIN:VEVENT
DTSTART;TZID=America/New_York:20271217T090000
DTEND;TZID=America/New_York:20271217T110000
DTSTAMP:20260420T045900
CREATED:20251121T164849Z
LAST-MODIFIED:20251121T164849Z
UID:10000441-1829034000-1829041200@essexcountyfire.org
SUMMARY:COMMSDIV - Monthly Meeting
DESCRIPTION:Meetings are the 3rd Friday of Every Month (0900-1100) – No meetings July / August \n 
URL:https://essexcountyfire.org/event/commsdiv-monthly-meeting/2027-12-17/
LOCATION:Rowley Fire\, 473 Haverhill St\, Rowley\, MA\, 01969\, United States
CATEGORIES:COMMSDIV
END:VEVENT
BEGIN:VEVENT
DTSTART;TZID=America/New_York:20271228T100000
DTEND;TZID=America/New_York:20271228T120000
DTSTAMP:20260420T045900
CREATED:20250416T151453Z
LAST-MODIFIED:20260324T184719Z
UID:10000208-1829988000-1829995200@essexcountyfire.org
SUMMARY:Fire Prevention Division Monthly Meeting
DESCRIPTION:Fire Prevention Division: Last Tuesday of the month at 1000 hours at Rowley HQ
URL:https://essexcountyfire.org/event/fire-prevention-division/2027-12-28/
LOCATION:Rowley Fire\, 473 Haverhill St\, Rowley\, MA\, 01969\, United States
END:VEVENT
BEGIN:VEVENT
DTSTART;TZID=America/New_York:20280104T100000
DTEND;TZID=America/New_York:20280104T120000
DTSTAMP:20260420T045900
CREATED:20250523T161108Z
LAST-MODIFIED:20250523T161259Z
UID:10000327-1830592800-1830600000@essexcountyfire.org
SUMMARY:EMS Division - Monthly Meeting
DESCRIPTION:Meetings are the 1st Tuesday of Every Month (1000-1200) – No meetings July / August \nMeetings are hybrid (in person & virtual)
URL:https://essexcountyfire.org/event/ems-division-monthly-meeting/2028-01-04/
LOCATION:MA
CATEGORIES:EMS Division
END:VEVENT
BEGIN:VEVENT
DTSTART;TZID=America/New_York:20280105T100000
DTEND;TZID=America/New_York:20280105T120000
DTSTAMP:20260420T045900
CREATED:20250416T150136Z
LAST-MODIFIED:20250416T151737Z
UID:10000037-1830679200-1830686400@essexcountyfire.org
SUMMARY:Board of Directors Meeting
DESCRIPTION:Board of Directors Meeting: 1000 hours first Wednesday of every month at Topsfield HQ
URL:https://essexcountyfire.org/event/board-of-directors-meeting/2028-01-05/
LOCATION:Topsfield Fire\, 27 High St\, Topsfield\, 01983\, United States
END:VEVENT
BEGIN:VEVENT
DTSTART;TZID=America/New_York:20280111T130000
DTEND;TZID=America/New_York:20280111T150000
DTSTAMP:20260420T045900
CREATED:20260324T184054Z
LAST-MODIFIED:20260324T184143Z
UID:10000496-1831208400-1831215600@essexcountyfire.org
SUMMARY:Training Division
DESCRIPTION:Training Division: Second Tuesday of the month at 1000 hours at Rowley HQ
URL:https://essexcountyfire.org/event/training-division-2/2028-01-11/
LOCATION:Rowley Fire\, 473 Haverhill St\, Rowley\, MA\, 01969\, United States
END:VEVENT
BEGIN:VEVENT
DTSTART;TZID=America/New_York:20280112T083000
DTEND;TZID=America/New_York:20280112T100000
DTSTAMP:20260420T045900
CREATED:20250616T185631Z
LAST-MODIFIED:20250616T185632Z
UID:10000383-1831278600-1831284000@essexcountyfire.org
SUMMARY:General Membership Meeting
DESCRIPTION:General Membership Meeting: 0830 hours second Wednesday of every Month at Teresa’s In Middleton\, MA
URL:https://essexcountyfire.org/event/general-membership-meeting-2/2028-01-12/
LOCATION:Teresa’s\, 149 S Main St\, Middleton\, MA\, 01949\, United States
END:VEVENT
BEGIN:VEVENT
DTSTART;TZID=America/New_York:20280121T090000
DTEND;TZID=America/New_York:20280121T110000
DTSTAMP:20260420T045900
CREATED:20251121T164849Z
LAST-MODIFIED:20251121T164849Z
UID:10000442-1832058000-1832065200@essexcountyfire.org
SUMMARY:COMMSDIV - Monthly Meeting
DESCRIPTION:Meetings are the 3rd Friday of Every Month (0900-1100) – No meetings July / August \n 
URL:https://essexcountyfire.org/event/commsdiv-monthly-meeting/2028-01-21/
LOCATION:Rowley Fire\, 473 Haverhill St\, Rowley\, MA\, 01969\, United States
CATEGORIES:COMMSDIV
END:VEVENT
BEGIN:VEVENT
DTSTART;TZID=America/New_York:20280125T100000
DTEND;TZID=America/New_York:20280125T120000
DTSTAMP:20260420T045900
CREATED:20250416T151453Z
LAST-MODIFIED:20260324T184719Z
UID:10000209-1832407200-1832414400@essexcountyfire.org
SUMMARY:Fire Prevention Division Monthly Meeting
DESCRIPTION:Fire Prevention Division: Last Tuesday of the month at 1000 hours at Rowley HQ
URL:https://essexcountyfire.org/event/fire-prevention-division/2028-01-25/
LOCATION:Rowley Fire\, 473 Haverhill St\, Rowley\, MA\, 01969\, United States
END:VEVENT
BEGIN:VEVENT
DTSTART;TZID=America/New_York:20280201T100000
DTEND;TZID=America/New_York:20280201T120000
DTSTAMP:20260420T045900
CREATED:20250523T161108Z
LAST-MODIFIED:20250523T161259Z
UID:10000328-1833012000-1833019200@essexcountyfire.org
SUMMARY:EMS Division - Monthly Meeting
DESCRIPTION:Meetings are the 1st Tuesday of Every Month (1000-1200) – No meetings July / August \nMeetings are hybrid (in person & virtual)
URL:https://essexcountyfire.org/event/ems-division-monthly-meeting/2028-02-01/
LOCATION:MA
CATEGORIES:EMS Division
END:VEVENT
BEGIN:VEVENT
DTSTART;TZID=America/New_York:20280202T100000
DTEND;TZID=America/New_York:20280202T120000
DTSTAMP:20260420T045900
CREATED:20250416T150136Z
LAST-MODIFIED:20250416T151737Z
UID:10000038-1833098400-1833105600@essexcountyfire.org
SUMMARY:Board of Directors Meeting
DESCRIPTION:Board of Directors Meeting: 1000 hours first Wednesday of every month at Topsfield HQ
URL:https://essexcountyfire.org/event/board-of-directors-meeting/2028-02-02/
LOCATION:Topsfield Fire\, 27 High St\, Topsfield\, 01983\, United States
END:VEVENT
END:VCALENDAR