BEGIN:VCALENDAR
VERSION:2.0
PRODID:-//Essex County County Fire Chiefs - ECPv6.15.20//NONSGML v1.0//EN
CALSCALE:GREGORIAN
METHOD:PUBLISH
X-WR-CALNAME:Essex County County Fire Chiefs
X-ORIGINAL-URL:https://essexcountyfire.org
X-WR-CALDESC:Events for Essex County County Fire Chiefs
REFRESH-INTERVAL;VALUE=DURATION:PT1H
X-Robots-Tag:noindex
X-PUBLISHED-TTL:PT1H
BEGIN:VTIMEZONE
TZID:America/New_York
BEGIN:DAYLIGHT
TZOFFSETFROM:-0500
TZOFFSETTO:-0400
TZNAME:EDT
DTSTART:20260308T070000
END:DAYLIGHT
BEGIN:STANDARD
TZOFFSETFROM:-0400
TZOFFSETTO:-0500
TZNAME:EST
DTSTART:20261101T060000
END:STANDARD
BEGIN:DAYLIGHT
TZOFFSETFROM:-0500
TZOFFSETTO:-0400
TZNAME:EDT
DTSTART:20270314T070000
END:DAYLIGHT
BEGIN:STANDARD
TZOFFSETFROM:-0400
TZOFFSETTO:-0500
TZNAME:EST
DTSTART:20271107T060000
END:STANDARD
BEGIN:DAYLIGHT
TZOFFSETFROM:-0500
TZOFFSETTO:-0400
TZNAME:EDT
DTSTART:20280312T070000
END:DAYLIGHT
BEGIN:STANDARD
TZOFFSETFROM:-0400
TZOFFSETTO:-0500
TZNAME:EST
DTSTART:20281105T060000
END:STANDARD
BEGIN:DAYLIGHT
TZOFFSETFROM:-0500
TZOFFSETTO:-0400
TZNAME:EDT
DTSTART:20290311T070000
END:DAYLIGHT
BEGIN:STANDARD
TZOFFSETFROM:-0400
TZOFFSETTO:-0500
TZNAME:EST
DTSTART:20291104T060000
END:STANDARD
BEGIN:DAYLIGHT
TZOFFSETFROM:-0500
TZOFFSETTO:-0400
TZNAME:EDT
DTSTART:20300310T070000
END:DAYLIGHT
BEGIN:STANDARD
TZOFFSETFROM:-0400
TZOFFSETTO:-0500
TZNAME:EST
DTSTART:20301103T060000
END:STANDARD
END:VTIMEZONE
BEGIN:VEVENT
DTSTART;TZID=America/New_York:20270521T090000
DTEND;TZID=America/New_York:20270521T110000
DTSTAMP:20260423T110026
CREATED:20251121T164849Z
LAST-MODIFIED:20251121T164849Z
UID:10000434-1810890000-1810897200@essexcountyfire.org
SUMMARY:COMMSDIV - Monthly Meeting
DESCRIPTION:Meetings are the 3rd Friday of Every Month (0900-1100) – No meetings July / August \n 
URL:https://essexcountyfire.org/event/commsdiv-monthly-meeting/2027-05-21/
LOCATION:Rowley Fire\, 473 Haverhill St\, Rowley\, MA\, 01969\, United States
CATEGORIES:COMMSDIV
END:VEVENT
BEGIN:VEVENT
DTSTART;TZID=America/New_York:20270618T090000
DTEND;TZID=America/New_York:20270618T110000
DTSTAMP:20260423T110026
CREATED:20251121T164849Z
LAST-MODIFIED:20251121T164849Z
UID:10000435-1813309200-1813316400@essexcountyfire.org
SUMMARY:COMMSDIV - Monthly Meeting
DESCRIPTION:Meetings are the 3rd Friday of Every Month (0900-1100) – No meetings July / August \n 
URL:https://essexcountyfire.org/event/commsdiv-monthly-meeting/2027-06-18/
LOCATION:Rowley Fire\, 473 Haverhill St\, Rowley\, MA\, 01969\, United States
CATEGORIES:COMMSDIV
END:VEVENT
BEGIN:VEVENT
DTSTART;TZID=America/New_York:20270716T090000
DTEND;TZID=America/New_York:20270716T110000
DTSTAMP:20260423T110026
CREATED:20251121T164849Z
LAST-MODIFIED:20251121T164849Z
UID:10000436-1815728400-1815735600@essexcountyfire.org
SUMMARY:COMMSDIV - Monthly Meeting
DESCRIPTION:Meetings are the 3rd Friday of Every Month (0900-1100) – No meetings July / August \n 
URL:https://essexcountyfire.org/event/commsdiv-monthly-meeting/2027-07-16/
LOCATION:Rowley Fire\, 473 Haverhill St\, Rowley\, MA\, 01969\, United States
CATEGORIES:COMMSDIV
END:VEVENT
BEGIN:VEVENT
DTSTART;TZID=America/New_York:20270820T090000
DTEND;TZID=America/New_York:20270820T110000
DTSTAMP:20260423T110026
CREATED:20251121T164849Z
LAST-MODIFIED:20251121T164849Z
UID:10000437-1818752400-1818759600@essexcountyfire.org
SUMMARY:COMMSDIV - Monthly Meeting
DESCRIPTION:Meetings are the 3rd Friday of Every Month (0900-1100) – No meetings July / August \n 
URL:https://essexcountyfire.org/event/commsdiv-monthly-meeting/2027-08-20/
LOCATION:Rowley Fire\, 473 Haverhill St\, Rowley\, MA\, 01969\, United States
CATEGORIES:COMMSDIV
END:VEVENT
BEGIN:VEVENT
DTSTART;TZID=America/New_York:20270917T090000
DTEND;TZID=America/New_York:20270917T110000
DTSTAMP:20260423T110026
CREATED:20251121T164849Z
LAST-MODIFIED:20251121T164849Z
UID:10000438-1821171600-1821178800@essexcountyfire.org
SUMMARY:COMMSDIV - Monthly Meeting
DESCRIPTION:Meetings are the 3rd Friday of Every Month (0900-1100) – No meetings July / August \n 
URL:https://essexcountyfire.org/event/commsdiv-monthly-meeting/2027-09-17/
LOCATION:Rowley Fire\, 473 Haverhill St\, Rowley\, MA\, 01969\, United States
CATEGORIES:COMMSDIV
END:VEVENT
BEGIN:VEVENT
DTSTART;TZID=America/New_York:20271015T090000
DTEND;TZID=America/New_York:20271015T110000
DTSTAMP:20260423T110026
CREATED:20251121T164849Z
LAST-MODIFIED:20251121T164849Z
UID:10000439-1823590800-1823598000@essexcountyfire.org
SUMMARY:COMMSDIV - Monthly Meeting
DESCRIPTION:Meetings are the 3rd Friday of Every Month (0900-1100) – No meetings July / August \n 
URL:https://essexcountyfire.org/event/commsdiv-monthly-meeting/2027-10-15/
LOCATION:Rowley Fire\, 473 Haverhill St\, Rowley\, MA\, 01969\, United States
CATEGORIES:COMMSDIV
END:VEVENT
BEGIN:VEVENT
DTSTART;TZID=America/New_York:20271119T090000
DTEND;TZID=America/New_York:20271119T110000
DTSTAMP:20260423T110026
CREATED:20251121T164849Z
LAST-MODIFIED:20251121T164849Z
UID:10000440-1826614800-1826622000@essexcountyfire.org
SUMMARY:COMMSDIV - Monthly Meeting
DESCRIPTION:Meetings are the 3rd Friday of Every Month (0900-1100) – No meetings July / August \n 
URL:https://essexcountyfire.org/event/commsdiv-monthly-meeting/2027-11-19/
LOCATION:Rowley Fire\, 473 Haverhill St\, Rowley\, MA\, 01969\, United States
CATEGORIES:COMMSDIV
END:VEVENT
BEGIN:VEVENT
DTSTART;TZID=America/New_York:20271217T090000
DTEND;TZID=America/New_York:20271217T110000
DTSTAMP:20260423T110026
CREATED:20251121T164849Z
LAST-MODIFIED:20251121T164849Z
UID:10000441-1829034000-1829041200@essexcountyfire.org
SUMMARY:COMMSDIV - Monthly Meeting
DESCRIPTION:Meetings are the 3rd Friday of Every Month (0900-1100) – No meetings July / August \n 
URL:https://essexcountyfire.org/event/commsdiv-monthly-meeting/2027-12-17/
LOCATION:Rowley Fire\, 473 Haverhill St\, Rowley\, MA\, 01969\, United States
CATEGORIES:COMMSDIV
END:VEVENT
BEGIN:VEVENT
DTSTART;TZID=America/New_York:20280121T090000
DTEND;TZID=America/New_York:20280121T110000
DTSTAMP:20260423T110026
CREATED:20251121T164849Z
LAST-MODIFIED:20251121T164849Z
UID:10000442-1832058000-1832065200@essexcountyfire.org
SUMMARY:COMMSDIV - Monthly Meeting
DESCRIPTION:Meetings are the 3rd Friday of Every Month (0900-1100) – No meetings July / August \n 
URL:https://essexcountyfire.org/event/commsdiv-monthly-meeting/2028-01-21/
LOCATION:Rowley Fire\, 473 Haverhill St\, Rowley\, MA\, 01969\, United States
CATEGORIES:COMMSDIV
END:VEVENT
BEGIN:VEVENT
DTSTART;TZID=America/New_York:20280218T090000
DTEND;TZID=America/New_York:20280218T110000
DTSTAMP:20260423T110026
CREATED:20251121T164849Z
LAST-MODIFIED:20251121T164849Z
UID:10000443-1834477200-1834484400@essexcountyfire.org
SUMMARY:COMMSDIV - Monthly Meeting
DESCRIPTION:Meetings are the 3rd Friday of Every Month (0900-1100) – No meetings July / August \n 
URL:https://essexcountyfire.org/event/commsdiv-monthly-meeting/2028-02-18/
LOCATION:Rowley Fire\, 473 Haverhill St\, Rowley\, MA\, 01969\, United States
CATEGORIES:COMMSDIV
END:VEVENT
BEGIN:VEVENT
DTSTART;TZID=America/New_York:20280317T090000
DTEND;TZID=America/New_York:20280317T110000
DTSTAMP:20260423T110026
CREATED:20251121T164849Z
LAST-MODIFIED:20251121T164849Z
UID:10000444-1836896400-1836903600@essexcountyfire.org
SUMMARY:COMMSDIV - Monthly Meeting
DESCRIPTION:Meetings are the 3rd Friday of Every Month (0900-1100) – No meetings July / August \n 
URL:https://essexcountyfire.org/event/commsdiv-monthly-meeting/2028-03-17/
LOCATION:Rowley Fire\, 473 Haverhill St\, Rowley\, MA\, 01969\, United States
CATEGORIES:COMMSDIV
END:VEVENT
BEGIN:VEVENT
DTSTART;TZID=America/New_York:20280421T090000
DTEND;TZID=America/New_York:20280421T110000
DTSTAMP:20260423T110026
CREATED:20251121T164849Z
LAST-MODIFIED:20251121T164849Z
UID:10000445-1839920400-1839927600@essexcountyfire.org
SUMMARY:COMMSDIV - Monthly Meeting
DESCRIPTION:Meetings are the 3rd Friday of Every Month (0900-1100) – No meetings July / August \n 
URL:https://essexcountyfire.org/event/commsdiv-monthly-meeting/2028-04-21/
LOCATION:Rowley Fire\, 473 Haverhill St\, Rowley\, MA\, 01969\, United States
CATEGORIES:COMMSDIV
END:VEVENT
BEGIN:VEVENT
DTSTART;TZID=America/New_York:20280519T090000
DTEND;TZID=America/New_York:20280519T110000
DTSTAMP:20260423T110026
CREATED:20251121T164849Z
LAST-MODIFIED:20251121T164849Z
UID:10000446-1842339600-1842346800@essexcountyfire.org
SUMMARY:COMMSDIV - Monthly Meeting
DESCRIPTION:Meetings are the 3rd Friday of Every Month (0900-1100) – No meetings July / August \n 
URL:https://essexcountyfire.org/event/commsdiv-monthly-meeting/2028-05-19/
LOCATION:Rowley Fire\, 473 Haverhill St\, Rowley\, MA\, 01969\, United States
CATEGORIES:COMMSDIV
END:VEVENT
BEGIN:VEVENT
DTSTART;TZID=America/New_York:20280616T090000
DTEND;TZID=America/New_York:20280616T110000
DTSTAMP:20260423T110026
CREATED:20251121T164849Z
LAST-MODIFIED:20251121T164849Z
UID:10000447-1844758800-1844766000@essexcountyfire.org
SUMMARY:COMMSDIV - Monthly Meeting
DESCRIPTION:Meetings are the 3rd Friday of Every Month (0900-1100) – No meetings July / August \n 
URL:https://essexcountyfire.org/event/commsdiv-monthly-meeting/2028-06-16/
LOCATION:Rowley Fire\, 473 Haverhill St\, Rowley\, MA\, 01969\, United States
CATEGORIES:COMMSDIV
END:VEVENT
BEGIN:VEVENT
DTSTART;TZID=America/New_York:20280721T090000
DTEND;TZID=America/New_York:20280721T110000
DTSTAMP:20260423T110026
CREATED:20251121T164849Z
LAST-MODIFIED:20251121T164849Z
UID:10000448-1847782800-1847790000@essexcountyfire.org
SUMMARY:COMMSDIV - Monthly Meeting
DESCRIPTION:Meetings are the 3rd Friday of Every Month (0900-1100) – No meetings July / August \n 
URL:https://essexcountyfire.org/event/commsdiv-monthly-meeting/2028-07-21/
LOCATION:Rowley Fire\, 473 Haverhill St\, Rowley\, MA\, 01969\, United States
CATEGORIES:COMMSDIV
END:VEVENT
BEGIN:VEVENT
DTSTART;TZID=America/New_York:20280818T090000
DTEND;TZID=America/New_York:20280818T110000
DTSTAMP:20260423T110026
CREATED:20251121T164849Z
LAST-MODIFIED:20251121T164849Z
UID:10000449-1850202000-1850209200@essexcountyfire.org
SUMMARY:COMMSDIV - Monthly Meeting
DESCRIPTION:Meetings are the 3rd Friday of Every Month (0900-1100) – No meetings July / August \n 
URL:https://essexcountyfire.org/event/commsdiv-monthly-meeting/2028-08-18/
LOCATION:Rowley Fire\, 473 Haverhill St\, Rowley\, MA\, 01969\, United States
CATEGORIES:COMMSDIV
END:VEVENT
BEGIN:VEVENT
DTSTART;TZID=America/New_York:20280915T090000
DTEND;TZID=America/New_York:20280915T110000
DTSTAMP:20260423T110026
CREATED:20251121T164849Z
LAST-MODIFIED:20251121T164849Z
UID:10000450-1852621200-1852628400@essexcountyfire.org
SUMMARY:COMMSDIV - Monthly Meeting
DESCRIPTION:Meetings are the 3rd Friday of Every Month (0900-1100) – No meetings July / August \n 
URL:https://essexcountyfire.org/event/commsdiv-monthly-meeting/2028-09-15/
LOCATION:Rowley Fire\, 473 Haverhill St\, Rowley\, MA\, 01969\, United States
CATEGORIES:COMMSDIV
END:VEVENT
BEGIN:VEVENT
DTSTART;TZID=America/New_York:20281020T090000
DTEND;TZID=America/New_York:20281020T110000
DTSTAMP:20260423T110026
CREATED:20251121T164849Z
LAST-MODIFIED:20251121T164849Z
UID:10000451-1855645200-1855652400@essexcountyfire.org
SUMMARY:COMMSDIV - Monthly Meeting
DESCRIPTION:Meetings are the 3rd Friday of Every Month (0900-1100) – No meetings July / August \n 
URL:https://essexcountyfire.org/event/commsdiv-monthly-meeting/2028-10-20/
LOCATION:Rowley Fire\, 473 Haverhill St\, Rowley\, MA\, 01969\, United States
CATEGORIES:COMMSDIV
END:VEVENT
BEGIN:VEVENT
DTSTART;TZID=America/New_York:20281117T090000
DTEND;TZID=America/New_York:20281117T110000
DTSTAMP:20260423T110027
CREATED:20251121T164849Z
LAST-MODIFIED:20251121T164849Z
UID:10000452-1858064400-1858071600@essexcountyfire.org
SUMMARY:COMMSDIV - Monthly Meeting
DESCRIPTION:Meetings are the 3rd Friday of Every Month (0900-1100) – No meetings July / August \n 
URL:https://essexcountyfire.org/event/commsdiv-monthly-meeting/2028-11-17/
LOCATION:Rowley Fire\, 473 Haverhill St\, Rowley\, MA\, 01969\, United States
CATEGORIES:COMMSDIV
END:VEVENT
BEGIN:VEVENT
DTSTART;TZID=America/New_York:20281215T090000
DTEND;TZID=America/New_York:20281215T110000
DTSTAMP:20260423T110027
CREATED:20251121T164849Z
LAST-MODIFIED:20251121T164849Z
UID:10000453-1860483600-1860490800@essexcountyfire.org
SUMMARY:COMMSDIV - Monthly Meeting
DESCRIPTION:Meetings are the 3rd Friday of Every Month (0900-1100) – No meetings July / August \n 
URL:https://essexcountyfire.org/event/commsdiv-monthly-meeting/2028-12-15/
LOCATION:Rowley Fire\, 473 Haverhill St\, Rowley\, MA\, 01969\, United States
CATEGORIES:COMMSDIV
END:VEVENT
BEGIN:VEVENT
DTSTART;TZID=America/New_York:20290119T090000
DTEND;TZID=America/New_York:20290119T110000
DTSTAMP:20260423T110027
CREATED:20251121T164849Z
LAST-MODIFIED:20251121T164849Z
UID:10000454-1863507600-1863514800@essexcountyfire.org
SUMMARY:COMMSDIV - Monthly Meeting
DESCRIPTION:Meetings are the 3rd Friday of Every Month (0900-1100) – No meetings July / August \n 
URL:https://essexcountyfire.org/event/commsdiv-monthly-meeting/2029-01-19/
LOCATION:Rowley Fire\, 473 Haverhill St\, Rowley\, MA\, 01969\, United States
CATEGORIES:COMMSDIV
END:VEVENT
BEGIN:VEVENT
DTSTART;TZID=America/New_York:20290216T090000
DTEND;TZID=America/New_York:20290216T110000
DTSTAMP:20260423T110027
CREATED:20251121T164849Z
LAST-MODIFIED:20251121T164849Z
UID:10000455-1865926800-1865934000@essexcountyfire.org
SUMMARY:COMMSDIV - Monthly Meeting
DESCRIPTION:Meetings are the 3rd Friday of Every Month (0900-1100) – No meetings July / August \n 
URL:https://essexcountyfire.org/event/commsdiv-monthly-meeting/2029-02-16/
LOCATION:Rowley Fire\, 473 Haverhill St\, Rowley\, MA\, 01969\, United States
CATEGORIES:COMMSDIV
END:VEVENT
BEGIN:VEVENT
DTSTART;TZID=America/New_York:20290316T090000
DTEND;TZID=America/New_York:20290316T110000
DTSTAMP:20260423T110027
CREATED:20251121T164849Z
LAST-MODIFIED:20251121T164849Z
UID:10000456-1868346000-1868353200@essexcountyfire.org
SUMMARY:COMMSDIV - Monthly Meeting
DESCRIPTION:Meetings are the 3rd Friday of Every Month (0900-1100) – No meetings July / August \n 
URL:https://essexcountyfire.org/event/commsdiv-monthly-meeting/2029-03-16/
LOCATION:Rowley Fire\, 473 Haverhill St\, Rowley\, MA\, 01969\, United States
CATEGORIES:COMMSDIV
END:VEVENT
BEGIN:VEVENT
DTSTART;TZID=America/New_York:20290420T090000
DTEND;TZID=America/New_York:20290420T110000
DTSTAMP:20260423T110027
CREATED:20251121T164849Z
LAST-MODIFIED:20251121T164849Z
UID:10000457-1871370000-1871377200@essexcountyfire.org
SUMMARY:COMMSDIV - Monthly Meeting
DESCRIPTION:Meetings are the 3rd Friday of Every Month (0900-1100) – No meetings July / August \n 
URL:https://essexcountyfire.org/event/commsdiv-monthly-meeting/2029-04-20/
LOCATION:Rowley Fire\, 473 Haverhill St\, Rowley\, MA\, 01969\, United States
CATEGORIES:COMMSDIV
END:VEVENT
BEGIN:VEVENT
DTSTART;TZID=America/New_York:20290518T090000
DTEND;TZID=America/New_York:20290518T110000
DTSTAMP:20260423T110027
CREATED:20251121T164849Z
LAST-MODIFIED:20251121T164849Z
UID:10000458-1873789200-1873796400@essexcountyfire.org
SUMMARY:COMMSDIV - Monthly Meeting
DESCRIPTION:Meetings are the 3rd Friday of Every Month (0900-1100) – No meetings July / August \n 
URL:https://essexcountyfire.org/event/commsdiv-monthly-meeting/2029-05-18/
LOCATION:Rowley Fire\, 473 Haverhill St\, Rowley\, MA\, 01969\, United States
CATEGORIES:COMMSDIV
END:VEVENT
BEGIN:VEVENT
DTSTART;TZID=America/New_York:20290615T090000
DTEND;TZID=America/New_York:20290615T110000
DTSTAMP:20260423T110027
CREATED:20251121T164849Z
LAST-MODIFIED:20251121T164849Z
UID:10000459-1876208400-1876215600@essexcountyfire.org
SUMMARY:COMMSDIV - Monthly Meeting
DESCRIPTION:Meetings are the 3rd Friday of Every Month (0900-1100) – No meetings July / August \n 
URL:https://essexcountyfire.org/event/commsdiv-monthly-meeting/2029-06-15/
LOCATION:Rowley Fire\, 473 Haverhill St\, Rowley\, MA\, 01969\, United States
CATEGORIES:COMMSDIV
END:VEVENT
BEGIN:VEVENT
DTSTART;TZID=America/New_York:20290720T090000
DTEND;TZID=America/New_York:20290720T110000
DTSTAMP:20260423T110027
CREATED:20251121T164849Z
LAST-MODIFIED:20251121T164849Z
UID:10000460-1879232400-1879239600@essexcountyfire.org
SUMMARY:COMMSDIV - Monthly Meeting
DESCRIPTION:Meetings are the 3rd Friday of Every Month (0900-1100) – No meetings July / August \n 
URL:https://essexcountyfire.org/event/commsdiv-monthly-meeting/2029-07-20/
LOCATION:Rowley Fire\, 473 Haverhill St\, Rowley\, MA\, 01969\, United States
CATEGORIES:COMMSDIV
END:VEVENT
BEGIN:VEVENT
DTSTART;TZID=America/New_York:20290817T090000
DTEND;TZID=America/New_York:20290817T110000
DTSTAMP:20260423T110027
CREATED:20251121T164849Z
LAST-MODIFIED:20251121T164849Z
UID:10000461-1881651600-1881658800@essexcountyfire.org
SUMMARY:COMMSDIV - Monthly Meeting
DESCRIPTION:Meetings are the 3rd Friday of Every Month (0900-1100) – No meetings July / August \n 
URL:https://essexcountyfire.org/event/commsdiv-monthly-meeting/2029-08-17/
LOCATION:Rowley Fire\, 473 Haverhill St\, Rowley\, MA\, 01969\, United States
CATEGORIES:COMMSDIV
END:VEVENT
BEGIN:VEVENT
DTSTART;TZID=America/New_York:20290921T090000
DTEND;TZID=America/New_York:20290921T110000
DTSTAMP:20260423T110027
CREATED:20251121T164849Z
LAST-MODIFIED:20251121T164849Z
UID:10000462-1884675600-1884682800@essexcountyfire.org
SUMMARY:COMMSDIV - Monthly Meeting
DESCRIPTION:Meetings are the 3rd Friday of Every Month (0900-1100) – No meetings July / August \n 
URL:https://essexcountyfire.org/event/commsdiv-monthly-meeting/2029-09-21/
LOCATION:Rowley Fire\, 473 Haverhill St\, Rowley\, MA\, 01969\, United States
CATEGORIES:COMMSDIV
END:VEVENT
BEGIN:VEVENT
DTSTART;TZID=America/New_York:20291019T090000
DTEND;TZID=America/New_York:20291019T110000
DTSTAMP:20260423T110027
CREATED:20251121T164849Z
LAST-MODIFIED:20251121T164849Z
UID:10000463-1887094800-1887102000@essexcountyfire.org
SUMMARY:COMMSDIV - Monthly Meeting
DESCRIPTION:Meetings are the 3rd Friday of Every Month (0900-1100) – No meetings July / August \n 
URL:https://essexcountyfire.org/event/commsdiv-monthly-meeting/2029-10-19/
LOCATION:Rowley Fire\, 473 Haverhill St\, Rowley\, MA\, 01969\, United States
CATEGORIES:COMMSDIV
END:VEVENT
END:VCALENDAR